BEGIN:VCALENDAR
VERSION:2.0
PRODID:-//Willamette Grange #52 - ECPv6.15.18//NONSGML v1.0//EN
CALSCALE:GREGORIAN
METHOD:PUBLISH
X-ORIGINAL-URL:https://www.willamettegrange.org
X-WR-CALDESC:Events for Willamette Grange #52
REFRESH-INTERVAL;VALUE=DURATION:PT1H
X-Robots-Tag:noindex
X-PUBLISHED-TTL:PT1H
BEGIN:VTIMEZONE
TZID:America/Los_Angeles
BEGIN:DAYLIGHT
TZOFFSETFROM:-0800
TZOFFSETTO:-0700
TZNAME:PDT
DTSTART:20220313T100000
END:DAYLIGHT
BEGIN:STANDARD
TZOFFSETFROM:-0700
TZOFFSETTO:-0800
TZNAME:PST
DTSTART:20221106T090000
END:STANDARD
BEGIN:DAYLIGHT
TZOFFSETFROM:-0800
TZOFFSETTO:-0700
TZNAME:PDT
DTSTART:20230312T100000
END:DAYLIGHT
BEGIN:STANDARD
TZOFFSETFROM:-0700
TZOFFSETTO:-0800
TZNAME:PST
DTSTART:20231105T090000
END:STANDARD
BEGIN:DAYLIGHT
TZOFFSETFROM:-0800
TZOFFSETTO:-0700
TZNAME:PDT
DTSTART:20240310T100000
END:DAYLIGHT
BEGIN:STANDARD
TZOFFSETFROM:-0700
TZOFFSETTO:-0800
TZNAME:PST
DTSTART:20241103T090000
END:STANDARD
END:VTIMEZONE
BEGIN:VEVENT
DTSTART;TZID=America/Los_Angeles:20230603T100000
DTEND;TZID=America/Los_Angeles:20230603T140000
DTSTAMP:20260421T004934
CREATED:20230228T203258Z
LAST-MODIFIED:20230308T165114Z
UID:1028-1685786400-1685800800@www.willamettegrange.org
SUMMARY:Bees & Trees
DESCRIPTION:
URL:https://www.willamettegrange.org/event/bees-trees/
END:VEVENT
BEGIN:VEVENT
DTSTART;TZID=America/Los_Angeles:20230611T143000
DTEND;TZID=America/Los_Angeles:20230611T163000
DTSTAMP:20260421T004934
CREATED:20230108T160615Z
LAST-MODIFIED:20230108T160615Z
UID:985-1686493800-1686501000@www.willamettegrange.org
SUMMARY:Member Meeting & Potluck
DESCRIPTION:
URL:https://www.willamettegrange.org/event/member-meeting-potluck-5/
CATEGORIES:Grange Meeting
END:VEVENT
BEGIN:VEVENT
DTSTART;TZID=America/Los_Angeles:20230615T180000
DTEND;TZID=America/Los_Angeles:20230615T200000
DTSTAMP:20260421T004934
CREATED:20230228T204450Z
LAST-MODIFIED:20230228T204450Z
UID:1047-1686852000-1686859200@www.willamettegrange.org
SUMMARY:Bingo at Greenberry Tavern
DESCRIPTION:
URL:https://www.willamettegrange.org/event/bingo-at-greenberry-tavern-4/
LOCATION:Greenberry Tavern\, 29974 OR-99@\, Corvallis\, OR\, 97333\, United States
ATTACH;FMTTYPE=image/png:https://www.willamettegrange.org/wp-content/uploads/2022/11/Screen-Shot-2022-11-01-at-10.35.44-AM.png
END:VEVENT
BEGIN:VEVENT
DTSTART;TZID=America/Los_Angeles:20230616T080000
DTEND;TZID=America/Los_Angeles:20230618T170000
DTSTAMP:20260421T004934
CREATED:20230228T203459Z
LAST-MODIFIED:20230228T203459Z
UID:1030-1686902400-1687107600@www.willamettegrange.org
SUMMARY:Oregon State Grange Convention
DESCRIPTION:
URL:https://www.willamettegrange.org/event/oregon-state-grange-convention/
LOCATION:Polk County Fairgrounds\, United States
CATEGORIES:Grange Meeting
END:VEVENT
END:VCALENDAR