BEGIN:VCALENDAR
VERSION:2.0
PRODID:-//Willamette Grange #52 - ECPv6.15.18//NONSGML v1.0//EN
CALSCALE:GREGORIAN
METHOD:PUBLISH
X-ORIGINAL-URL:https://www.willamettegrange.org
X-WR-CALDESC:Events for Willamette Grange #52
REFRESH-INTERVAL;VALUE=DURATION:PT1H
X-Robots-Tag:noindex
X-PUBLISHED-TTL:PT1H
BEGIN:VTIMEZONE
TZID:America/Los_Angeles
BEGIN:DAYLIGHT
TZOFFSETFROM:-0800
TZOFFSETTO:-0700
TZNAME:PDT
DTSTART:20220313T100000
END:DAYLIGHT
BEGIN:STANDARD
TZOFFSETFROM:-0700
TZOFFSETTO:-0800
TZNAME:PST
DTSTART:20221106T090000
END:STANDARD
BEGIN:DAYLIGHT
TZOFFSETFROM:-0800
TZOFFSETTO:-0700
TZNAME:PDT
DTSTART:20230312T100000
END:DAYLIGHT
BEGIN:STANDARD
TZOFFSETFROM:-0700
TZOFFSETTO:-0800
TZNAME:PST
DTSTART:20231105T090000
END:STANDARD
BEGIN:DAYLIGHT
TZOFFSETFROM:-0800
TZOFFSETTO:-0700
TZNAME:PDT
DTSTART:20240310T100000
END:DAYLIGHT
BEGIN:STANDARD
TZOFFSETFROM:-0700
TZOFFSETTO:-0800
TZNAME:PST
DTSTART:20241103T090000
END:STANDARD
END:VTIMEZONE
BEGIN:VEVENT
DTSTART;VALUE=DATE:20230805
DTEND;VALUE=DATE:20230806
DTSTAMP:20260419T160959
CREATED:20230614T145148Z
LAST-MODIFIED:20230614T145356Z
UID:1089-1691193600-1691279999@www.willamettegrange.org
SUMMARY:Shakespeare at the Willamette Grange
DESCRIPTION:
URL:https://www.willamettegrange.org/event/shakespeare-at-the-willamette-grange/
LOCATION:OR
CATEGORIES:Grange Events
END:VEVENT
BEGIN:VEVENT
DTSTART;TZID=America/Los_Angeles:20230817T180000
DTEND;TZID=America/Los_Angeles:20230817T200000
DTSTAMP:20260419T160959
CREATED:20230228T204722Z
LAST-MODIFIED:20230228T204722Z
UID:1051-1692295200-1692302400@www.willamettegrange.org
SUMMARY:Bingo at Greenberry Tavern
DESCRIPTION:
URL:https://www.willamettegrange.org/event/bingo-at-greenberry-tavern-6/
LOCATION:OR
CATEGORIES:Grange Events
ATTACH;FMTTYPE=image/png:https://www.willamettegrange.org/wp-content/uploads/2022/11/Screen-Shot-2022-11-01-at-10.35.44-AM.png
END:VEVENT
END:VCALENDAR